BEGIN:VCALENDAR
VERSION:2.0
PRODID:-//Юридический институт - ECPv6.15.16//NONSGML v1.0//EN
CALSCALE:GREGORIAN
METHOD:PUBLISH
X-WR-CALNAME:Юридический институт
X-ORIGINAL-URL:https://law.susu.ru
X-WR-CALDESC:Мероприятия для Юридический институт
REFRESH-INTERVAL;VALUE=DURATION:PT1H
X-Robots-Tag:noindex
X-PUBLISHED-TTL:PT1H
BEGIN:VTIMEZONE
TZID:Europe/Moscow
BEGIN:STANDARD
TZOFFSETFROM:+0300
TZOFFSETTO:+0300
TZNAME:MSK
DTSTART:20250101T000000
END:STANDARD
END:VTIMEZONE
BEGIN:VEVENT
DTSTART;TZID=Europe/Moscow:20260424T080000
DTEND;TZID=Europe/Moscow:20260425T170000
DTSTAMP:20260420T085526
CREATED:20260219T103831Z
LAST-MODIFIED:20260219T103831Z
UID:532-1777017600-1777136400@law.susu.ru
SUMMARY:XXII Международной научно-практической конференции  молодых исследователей «УНИВЕРСИТЕТСКИЕ ПРАВОВЫЕ ДИАЛОГИ: ГОЛОС МОЛОДЫХ – UNIVERSITY LAW DIALOGUES: VOICE OF THE YOUTH»
DESCRIPTION:Юридический институт ЮУрГУ приглашает студентов\, магистрантов\, аспирантов и молодых ученых не старше 35 лет\, принять участие в работе очной международной научно-практической конференции молодых исследователей «Университетские правовые диалоги: голос молодых – University Law Dialogues: Voice of the Youth». \nКонференция состоится 24 – 25 апреля 2026 г. в сочетании очного и онлайн форматов. \nРабота конференции будет организована по следующим направлениям (секциям): \n\nТеория и история государства и права;\nКонституционное\, муниципальное и административное право;\nМеждународное и европейское право;\nГражданское право;\nГражданский и арбитражный процесс;\nПредпринимательское право и налоговое право;\nЗемельное право;\nТрудовое право и социальное право;\nУголовное право (общая часть);\nУголовное право (особенная часть);\nАктуальные вопросы криминологии и предупреждения преступлений;\nУголовный процесс;\nКриминалистика и судебная экспертиза;\nОрганизация судебной и правоохранительной деятельности;\nLaw in Changing World (секция на английском языке).\n\n  \nПо итогам конференции будет издан сборник статей участников. Статьи участников конференции будут включены в сборник при условии соответствия требованиям к их оформлению и содержанию\, указанным в настоящем информационном письме. \nИнформационное письмо
URL:https://law.susu.ru/event/xxii-%d0%bc%d0%b5%d0%b6%d0%b4%d1%83%d0%bd%d0%b0%d1%80%d0%be%d0%b4%d0%bd%d0%be%d0%b9-%d0%bd%d0%b0%d1%83%d1%87%d0%bd%d0%be-%d0%bf%d1%80%d0%b0%d0%ba%d1%82%d0%b8%d1%87%d0%b5%d1%81%d0%ba%d0%be%d0%b9-%d0%ba/
END:VEVENT
END:VCALENDAR